BEGIN:VCALENDAR
VERSION:2.0
CALSCALE:GREGORIAN
PRODID:-//Diputació de Barcelona//DibaCMS//EN
BEGIN:VEVENT
UID:6261
DTSTAMP:20260420T050657
DTSTART:20260504T000000
DTEND:20260504T000000
SUMMARY:18a SETMANA DE LA GENT GRAN: Sortida a Banyoles
LOCATION:Sortida des de Vicenç Perelló i Can Bargalló 
METHOD:PUBLISH
X-WR-CALNAME:gelida@gelida.cat 
X-WR-TIMEZONE:Europe/Madrid
DESCRIPTION:Excursió cultural i de lleure a Banyoles amb sortida en grup.

URI:https://www.gelida.cat/actualitat/agenda/18a-setmana-de-la-gent-gran-sortida-a-banyoles.html
CLASS:PUBLIC
END:VEVENT
END:VCALENDAR
