BEGIN:VCALENDAR
VERSION:2.0
CALSCALE:GREGORIAN
PRODID:-//Diputació de Barcelona//DibaCMS//EN
BEGIN:VEVENT
UID:6258
DTSTAMP:20260425T160714
DTSTART:20260504T190000
DTEND:20260504T190000
SUMMARY:18a SETMANA DE LA GENT GRAN:  Inauguració de l’exposició de manualitats
LOCATION:Espai 1880 (Antic Vestíbul de l’Ajuntament) 
METHOD:PUBLISH
X-WR-CALNAME:gelida@gelida.cat 
X-WR-TIMEZONE:Europe/Madrid
DESCRIPTION:Acte inaugural de l’exposició de treballs manuals realitzats per les persones usuàries del Casal de la Gent Gran.

URI:https://www.gelida.cat/actualitat/agenda/18a-setmana-de-la-gent-gran-duplicat.html
CLASS:PUBLIC
END:VEVENT
END:VCALENDAR
