BEGIN:VCALENDAR
VERSION:2.0
CALSCALE:GREGORIAN
PRODID:-//Diputació de Barcelona//DibaCMS//EN
BEGIN:VEVENT
UID:6257
DTSTAMP:20260420T050829
DTSTART:20260504T093000
DTEND:20260504T093000
SUMMARY:18a SETMANA DE LA GENT GRAN:  Caminada de Santpedor a Parc de l’Agulla
LOCATION:Sortida des de Vicenç Perelló i Can Bargalló 
METHOD:PUBLISH
X-WR-CALNAME:gelida@gelida.cat 
X-WR-TIMEZONE:Europe/Madrid
DESCRIPTION:Excursió matinal fins al Parc de l’Agulla amb dinar de pícnic per gaudir de la natura

URI:https://www.gelida.cat/actualitat/agenda/18a-setmana-de-la-gent-gran-caminada-de-santpedor-a-parc-de-lagulla.html
CLASS:PUBLIC
END:VEVENT
END:VCALENDAR
