BEGIN:VCALENDAR
VERSION:2.0
CALSCALE:GREGORIAN
PRODID:-//Diputació de Barcelona//DibaCMS//EN
BEGIN:VEVENT
UID:6256
DTSTAMP:20260420T050645
DTSTART:20260504T000000
DTEND:20260504T000000
SUMMARY:18a SETMANA DE LA GENT GRAN: 
LOCATION:
METHOD:PUBLISH
X-WR-CALNAME:gelida@gelida.cat 
X-WR-TIMEZONE:Europe/Madrid
DESCRIPTION:
URI:https://www.gelida.cat/actualitat/agenda/18a-setmana-de-la-gent-gran-.html
CLASS:PUBLIC
END:VEVENT
END:VCALENDAR
