BEGIN:VCALENDAR
VERSION:2.0
CALSCALE:GREGORIAN
PRODID:-//Diputació de Barcelona//DibaCMS//EN
BEGIN:VEVENT
UID:6114
DTSTAMP:20260422T214549
DTSTART:20251215T000000
DTEND:20261215T000000
SUMMARY:Noves condicions d’accés al medi natural per la pesta porcina africana
LOCATION:
METHOD:PUBLISH
X-WR-CALNAME:gelida@gelida.cat 
X-WR-TIMEZONE:Europe/Madrid
DESCRIPTION:Des d’aquest dilluns, 15 de desembre, es permet l’accés individual al medi natural a Gelida i a tota la zona de 6 a 20 quilòmetres, però continuen prohibides les activitats de lleure organitzades en grup com a mesura de prevenció sanitària.

URI:https://www.gelida.cat/actualitat/noticies/noves-condicions-dacces-al-medi-natural-per-la-pesta-porcina-africana.html
CLASS:PUBLIC
END:VEVENT
END:VCALENDAR
