BEGIN:VCALENDAR
VERSION:2.0
CALSCALE:GREGORIAN
PRODID:-//Diputació de Barcelona//DibaCMS//EN
BEGIN:VEVENT
UID:6094
DTSTAMP:20260422T172353
DTSTART:20251210T000000
DTEND:20261210T000000
SUMMARY:Ús obligatori de la mascareta en centres sanitaris i residencials
LOCATION:
METHOD:PUBLISH
X-WR-CALNAME:gelida@gelida.cat 
X-WR-TIMEZONE:Europe/Madrid
DESCRIPTION:Per a totes les persones a partir de 6 anys, professionals, pacients i visitants

URI:https://www.gelida.cat/actualitat/noticies/us-obligatori-de-la-mascareta-en-centres-sanitaris-i-residencials.html
CLASS:PUBLIC
END:VEVENT
END:VCALENDAR
