BEGIN:VCALENDAR
VERSION:2.0
CALSCALE:GREGORIAN
PRODID:-//Diputació de Barcelona//DibaCMS//EN
BEGIN:VEVENT
UID:6092
DTSTAMP:20260422T201519
DTSTART:20251205T000000
DTEND:20261205T000000
SUMMARY:La Generalitat estableix noves mesures de prevenció per la pesta porcina africana que afecten el municipi de Gelida
LOCATION:
METHOD:PUBLISH
X-WR-CALNAME:gelida@gelida.cat 
X-WR-TIMEZONE:Europe/Madrid
DESCRIPTION:Gelida ha estat inclosa a la zona infectada de baix risc definida per la Generalitat, amb mesures específiques de control, bioseguretat i restriccions d’accés al medi natural fins al 14 de desembre

URI:https://www.gelida.cat/actualitat/noticies/la-generalitat-estableix-noves-mesures-de-prevencio-per-la-pesta-porcina-africana-que-afecten-el-municipi-de-gelida.html
CLASS:PUBLIC
END:VEVENT
END:VCALENDAR
