BEGIN:VCALENDAR
VERSION:2.0
CALSCALE:GREGORIAN
PRODID:-//Diputació de Barcelona//DibaCMS//EN
BEGIN:VEVENT
UID:6085
DTSTAMP:20260422T171506
DTSTART:20251120T000000
DTEND:20290324T000000
SUMMARY:Ple Ordinari 25 de novembre
LOCATION:
METHOD:PUBLISH
X-WR-CALNAME:gelida@gelida.cat 
X-WR-TIMEZONE:Europe/Madrid
DESCRIPTION:El dimarts 25 de novembre, a les 20.00 h, hi haurà ple ordinari a la Sala de Plens de l'Ajuntament de Gelida.

URI:https://www.gelida.cat/actualitat/noticies/ple-ordinari-25-de-novembre.html
CLASS:PUBLIC
END:VEVENT
END:VCALENDAR
