BEGIN:VCALENDAR
VERSION:2.0
CALSCALE:GREGORIAN
PRODID:-//Diputació de Barcelona//DibaCMS//EN
BEGIN:VEVENT
UID:6081
DTSTAMP:20260422T172409
DTSTART:20251114T000000
DTEND:20261114T000000
SUMMARY:Confinament de les aus de corral per prevenir la grip aviària
LOCATION:
METHOD:PUBLISH
X-WR-CALNAME:gelida@gelida.cat 
X-WR-TIMEZONE:Europe/Madrid
DESCRIPTION:Davant la l’increment del risc d’influença aviària a Espanya, el Ministeri d’Agricultura, Pesca i Alimentació ha publicat l’Ordre APA/1288/2025, d’11 de novembre, per la qual s’estableix la mesura de confinament d’explotacions per la prevenció i control del contagi per influença aviar.

URI:https://www.gelida.cat/actualitat/noticies/confinament-de-les-aus-de-corral-per-prevenir-la-grip-aviaria.html
CLASS:PUBLIC
END:VEVENT
END:VCALENDAR
