BEGIN:VCALENDAR
VERSION:2.0
CALSCALE:GREGORIAN
PRODID:-//Diputació de Barcelona//DibaCMS//EN
BEGIN:VEVENT
UID:6080
DTSTAMP:20260422T172825
DTSTART:20251112T000000
DTEND:20261112T000000
SUMMARY:La Funifira consolida la seva projecció com a esdeveniment de referència a Gelida
LOCATION:
METHOD:PUBLISH
X-WR-CALNAME:gelida@gelida.cat 
X-WR-TIMEZONE:Europe/Madrid
DESCRIPTION:Durant els dies de fira, milers de persones van visitar els diferents espais firals, participant en les propostes gastronòmiques, lúdiques i culturals que han tornat a consolidar la Funifira com un esdeveniment clau en el calendari d’activitats del municipi.

URI:https://www.gelida.cat/actualitat/noticies/la-funifira-consolida-la-seva-projeccio-com-a-esdeveniment-de-referencia-a-gelida.html
CLASS:PUBLIC
END:VEVENT
END:VCALENDAR
