BEGIN:VCALENDAR
VERSION:2.0
CALSCALE:GREGORIAN
PRODID:-//Diputació de Barcelona//DibaCMS//EN
BEGIN:VEVENT
UID:6077
DTSTAMP:20260422T173150
DTSTART:20251110T000000
DTEND:20261111T000000
SUMMARY:XII TROBADA D’ESCUDELLES, RANXOS I SOPES HISTÒRIQUES DE CATALUNYA
LOCATION:
METHOD:PUBLISH
X-WR-CALNAME:gelida@gelida.cat 
X-WR-TIMEZONE:Europe/Madrid
DESCRIPTION:El cap de setmana del 22 i 23 de novembre de 2025 Gelida celebrarà la XII Trobada d’Escudelles, Ranxos i Sopes Històriques de Catalunya amb la participació de 12 colles d'arreu de Catalunya, així com, d'Andorra la Vella, el Soler a la Catalunya Nord i la italiana Varallo.

VENDA ANTICIPADA DE TIQUETS PER ALS TASTOS DE DIUMENGE

URI:https://www.gelida.cat/actualitat/noticies/xii-trobada-descudelles-ranxos-i-sopes-historiques-de-catalunya.html
CLASS:PUBLIC
END:VEVENT
END:VCALENDAR
