BEGIN:VCALENDAR
VERSION:2.0
CALSCALE:GREGORIAN
PRODID:-//Diputació de Barcelona//DibaCMS//EN
BEGIN:VEVENT
UID:6076
DTSTAMP:20260422T184326
DTSTART:20251110T000000
DTEND:20261110T000000
SUMMARY:BASES PER A LA CONCESSIÓ D’AJUTS PER ACTIVITATS ESPORTIVES A INFANTS I JOVENT DE GELIDA
LOCATION:
METHOD:PUBLISH
X-WR-CALNAME:gelida@gelida.cat 
X-WR-TIMEZONE:Europe/Madrid
DESCRIPTION:El Patronat Municipal d’Esports impulsa una nova convocatòria d’ajuts per facilitar l’accés dels infants i joves del municipi a les activitats esportives dels clubs locals durant el curs 2025-2026.

URI:https://www.gelida.cat/actualitat/noticies/bases-per-a-la-concessio-dajuts-per-activitats-esportives-a-infants-i-jovent-de-gelida.html
CLASS:PUBLIC
END:VEVENT
END:VCALENDAR
