BEGIN:VCALENDAR
VERSION:2.0
CALSCALE:GREGORIAN
PRODID:-//Diputació de Barcelona//DibaCMS//EN
BEGIN:VEVENT
UID:6070
DTSTAMP:20260422T183232
DTSTART:20251031T000000
DTEND:20261031T000000
SUMMARY:La ITV mòbil per a tractors i remolcs es tornarà a realitzar a Gelida el 3 de desembre
LOCATION:
METHOD:PUBLISH
X-WR-CALNAME:gelida@gelida.cat 
X-WR-TIMEZONE:Europe/Madrid
DESCRIPTION:El dimecres 3 de desembre, la ITV mòbil per a tractors i remolcs s'instal·larà al municipi per fer les revisions reglamentàries.

URI:https://www.gelida.cat/actualitat/noticies/la-itv-mobil-per-a-tractors-i-remolcs-es-tornara-a-realitzar-a-gelidael-3-de-desembre.html
CLASS:PUBLIC
END:VEVENT
END:VCALENDAR
