BEGIN:VCALENDAR
VERSION:2.0
CALSCALE:GREGORIAN
PRODID:-//Diputació de Barcelona//DibaCMS//EN
BEGIN:VEVENT
UID:6069
DTSTAMP:20260422T173614
DTSTART:20251030T000000
DTEND:20261030T000000
SUMMARY:L’Ajuntament de Gelida aplica un increment de l’IPC en la modificació de les ordenances fiscals per al 2026
LOCATION:
METHOD:PUBLISH
X-WR-CALNAME:gelida@gelida.cat 
X-WR-TIMEZONE:Europe/Madrid
DESCRIPTION:
URI:https://www.gelida.cat/actualitat/noticies/lajuntament-de-gelida-aplica-un-increment-de-lipc-en-la-modificacio-de-les-ordenances-fiscals-per-al-2026.html
CLASS:PUBLIC
END:VEVENT
END:VCALENDAR
