BEGIN:VCALENDAR
VERSION:2.0
CALSCALE:GREGORIAN
PRODID:-//Diputació de Barcelona//DibaCMS//EN
BEGIN:VEVENT
UID:6062
DTSTAMP:20260422T181959
DTSTART:20251024T000000
DTEND:20261031T000000
SUMMARY:Ple extraordinari 28 d'octubre
LOCATION:
METHOD:PUBLISH
X-WR-CALNAME:gelida@gelida.cat 
X-WR-TIMEZONE:Europe/Madrid
DESCRIPTION:El pròxim dimarts 28 d'octubre a l'Ajuntament de Gelida Ple extraordinari celebrat a la Sala de Plens Municipal.

URI:https://www.gelida.cat/actualitat/noticies/ple-extraordinari-28-doctubre.html
CLASS:PUBLIC
END:VEVENT
END:VCALENDAR
