BEGIN:VCALENDAR
VERSION:2.0
CALSCALE:GREGORIAN
PRODID:-//Diputació de Barcelona//DibaCMS//EN
BEGIN:VEVENT
UID:6061
DTSTAMP:20260422T172256
DTSTART:20251020T000000
DTEND:20261020T000000
SUMMARY:Inici de les obres de millora al voltant de la Casa del Senyor
LOCATION:
METHOD:PUBLISH
X-WR-CALNAME:gelida@gelida.cat 
X-WR-TIMEZONE:Europe/Madrid
DESCRIPTION:El pròxim 22 d’octubre s’iniciaran les obres de millora i reurbanització de l’illa de la Casa del Senyor, una actuació impulsada per l’Ajuntament amb l’objectiu de millorar l’accessibilitat i la seguretat d’un dels espais més cèntrics del municipi.

URI:https://www.gelida.cat/actualitat/noticies/inici-de-les-obres-de-millora-al-voltant-de-la-casa-del-senyor.html
CLASS:PUBLIC
END:VEVENT
END:VCALENDAR
