BEGIN:VCALENDAR
VERSION:2.0
CALSCALE:GREGORIAN
PRODID:-//Diputació de Barcelona//DibaCMS//EN
BEGIN:VEVENT
UID:6060
DTSTAMP:20260422T201223
DTSTART:20251009T000000
DTEND:20261031T000000
SUMMARY:Convocatòria oberta 26è Guardó Santa Llúcia Solidària
LOCATION:
METHOD:PUBLISH
X-WR-CALNAME:gelida@gelida.cat 
X-WR-TIMEZONE:Europe/Madrid
DESCRIPTION:Destinataris: ONG's o associacions que disposin de programes assistencials que tinguin com a objecte, prioritàriament, l'erradicació de la fam.

URI:https://www.gelida.cat/actualitat/noticies/convocatoria-oberta-26e-guardo-santa-llucia-solidaria.html
CLASS:PUBLIC
END:VEVENT
END:VCALENDAR
