BEGIN:VCALENDAR
VERSION:2.0
CALSCALE:GREGORIAN
PRODID:-//Diputació de Barcelona//DibaCMS//EN
BEGIN:VEVENT
UID:6059
DTSTAMP:20260422T173222
DTSTART:20251009T010000
DTEND:20260926T010000
SUMMARY:Convocat un nou concurs per al disseny del Cartell de Santa Llúcia 2025
LOCATION:
METHOD:PUBLISH
X-WR-CALNAME:gelida@gelida.cat 
X-WR-TIMEZONE:Europe/Madrid
DESCRIPTION:Obert el termini de presentació de les propostes que han de ser lliurades abans del divendres 7 de novembre de 2025 a l'Ajuntament de Gelida.

URI:https://www.gelida.cat/municipi-per-temes/cultura/-cultura/convocat-un-nou-concurs-per-al-disseny-del-cartell-de-santa-llucia-2025.html
CLASS:PUBLIC
END:VEVENT
END:VCALENDAR
