BEGIN:VCALENDAR
VERSION:2.0
CALSCALE:GREGORIAN
PRODID:-//Diputació de Barcelona//DibaCMS//EN
BEGIN:VEVENT
UID:6048
DTSTAMP:20260420T082018
DTSTART:20251008T000000
DTEND:20261031T000000
SUMMARY:Gelida acollirà la 12a Trobada d’Escudelles, Ranxos i Sopes Històriques de Catalunya els dies 22 i 23 de novembre
LOCATION:
METHOD:PUBLISH
X-WR-CALNAME:gelida@gelida.cat 
X-WR-TIMEZONE:Europe/Madrid
DESCRIPTION:La presentació del cartell i del programa d’actes s’ha fet aquest dimecres, 8 d’octubre, de la mà de la Comissió de Festes de Santa Llúcia, amb la presència de l’alcalde de Gelida, Lluís Valls. L’esdeveniment comptarà amb la participació de 15 municipis de Catalunya, Andorra, la Catalunya Nord i Itàlia.

URI:https://www.gelida.cat/municipi-per-temes/cultura/-cultura/gelida-acollira-la-12a-trobada-descudelles-ranxos-i-sopes-historiques-de-catalunya-els-dies-22-i-23-de-novembre.html
CLASS:PUBLIC
END:VEVENT
END:VCALENDAR
