BEGIN:VCALENDAR
VERSION:2.0
CALSCALE:GREGORIAN
PRODID:-//Diputació de Barcelona//DibaCMS//EN
BEGIN:VEVENT
UID:6047
DTSTAMP:20260422T201754
DTSTART:20251008T000000
DTEND:20280831T000000
SUMMARY:Neix la Xarxa Empresarial “La Gelidenca” per enfortir el teixit industrial i comercial del municipi.
LOCATION:
METHOD:PUBLISH
X-WR-CALNAME:gelida@gelida.cat 
X-WR-TIMEZONE:Europe/Madrid
DESCRIPTION:La nova associació agrupa empreses dels polígons industrials i del nucli urbà de Gelida amb l’objectiu de fomentar la col·laboració, la competitivitat i el desenvolupament sostenible del teixit empresarial local.

URI:https://www.gelida.cat/actualitat/noticies/neix-la-xarxa-empresarial-la-gelidenca-per-enfortir-el-teixit-industrial-i-comercial-del-municipi.html
CLASS:PUBLIC
END:VEVENT
END:VCALENDAR
