BEGIN:VCALENDAR
VERSION:2.0
CALSCALE:GREGORIAN
PRODID:-//Diputació de Barcelona//DibaCMS//EN
BEGIN:VEVENT
UID:6042
DTSTAMP:20260422T200927
DTSTART:20251002T000000
DTEND:20261002T000000
SUMMARY:Gelida se suma a la concentració en suport al poble palestí i a la Flotilla Global Sumud
LOCATION:
METHOD:PUBLISH
X-WR-CALNAME:gelida@gelida.cat 
X-WR-TIMEZONE:Europe/Madrid
DESCRIPTION:L’Ajuntament de Gelida convoca la ciutadania aquest dijous 2 d’octubre, a les 19.00 h a la plaça de la Vila, per expressar el rebuig al genocidi contra el poble palestí i mostrar suport a la Flotilla Global Sumud.

URI:https://www.gelida.cat/actualitat/noticies/gelida-se-suma-a-la-concentracio-en-suport-al-poble-palesti-i-a-la-flotilla-global-sumud.html
CLASS:PUBLIC
END:VEVENT
END:VCALENDAR
