BEGIN:VCALENDAR
VERSION:2.0
CALSCALE:GREGORIAN
PRODID:-//Diputació de Barcelona//DibaCMS//EN
BEGIN:VEVENT
UID:6041
DTSTAMP:20260422T200912
DTSTART:20250925T000000
DTEND:20290324T000000
SUMMARY:Ple Ordinari 30 de setembre
LOCATION:
METHOD:PUBLISH
X-WR-CALNAME:gelida@gelida.cat 
X-WR-TIMEZONE:Europe/Madrid
DESCRIPTION:El dimarts 30 de setembre, a les 20.00 h, hi haurà ple ordinari presencial a la Sala de Plens de l'Ajuntament de Gelida.

URI:https://www.gelida.cat/actualitat/noticies/ple-ordinari-30-de-setembre.html
CLASS:PUBLIC
END:VEVENT
END:VCALENDAR
