BEGIN:VCALENDAR
VERSION:2.0
CALSCALE:GREGORIAN
PRODID:-//Diputació de Barcelona//DibaCMS//EN
BEGIN:VEVENT
UID:6035
DTSTAMP:20260422T173441
DTSTART:20251016T000000
DTEND:20280830T000000
SUMMARY:Actualització 16/10/2025: Convocatòria i bases borsa oficial 1a brigada municipal
LOCATION:
METHOD:PUBLISH
X-WR-CALNAME:gelida@gelida.cat 
X-WR-TIMEZONE:Europe/Madrid
DESCRIPTION:S'obre una borsa de treball per a la categoria d’Oficial/a de 1a de la Brigada d’Obres i Serveis, amb l’objectiu de cobrir, en règim d’interinitat, les vacants o substitucions temporals de la plantilla municipal derivades de baixes per malaltia, accidents laborals, maternitat, llicències o permisos. Aquesta plaça correspon al grup de titulació C2.

URI:https://www.gelida.cat/actualitat/noticies/actualitzacio-16102025-convocatoria-i-bases-borsa-oficial-1a-brigada-municipal.html
CLASS:PUBLIC
END:VEVENT
END:VCALENDAR
