BEGIN:VCALENDAR
VERSION:2.0
CALSCALE:GREGORIAN
PRODID:-//Diputació de Barcelona//DibaCMS//EN
BEGIN:VEVENT
UID:6008
DTSTAMP:20260422T201819
DTSTART:20250717T000000
DTEND:20290324T000000
SUMMARY:Ple Ordinari 22 de juliol
LOCATION:
METHOD:PUBLISH
X-WR-CALNAME:gelida@gelida.cat 
X-WR-TIMEZONE:Europe/Madrid
DESCRIPTION:El dimarts 22 de juliol, a les 20.00 h, hi haurà ple ordinari presencial a la Sala de Plens de l'Ajuntament de Gelida.

URI:https://www.gelida.cat/actualitat/noticies/ple-ordinari-22-de-juliol.html
CLASS:PUBLIC
END:VEVENT
END:VCALENDAR
