BEGIN:VCALENDAR
VERSION:2.0
CALSCALE:GREGORIAN
PRODID:-//Diputació de Barcelona//DibaCMS//EN
BEGIN:VEVENT
UID:5991
DTSTAMP:20260426T044338
DTSTART:20250726T210000
DTEND:20250726T210000
SUMMARY:ART I ESTRELLES 2025: Astronomia amb els nostres sentits
LOCATION:Plaça del Pedró del Castell de Gelida 
METHOD:PUBLISH
X-WR-CALNAME:gelida@gelida.cat 
X-WR-TIMEZONE:Europe/Madrid
DESCRIPTION:Art i Estrelles 2025 és una experiència única que combina l'art amb l'astronomia, convidant els participants a descobrir el cel nocturn a través dels nostres sentits acompanyats d'una copa de vi.

URI:https://www.gelida.cat/actualitat/agenda/art-i-estrelles-2025-astronomia-amb-els-nostres-sentits.html
CLASS:PUBLIC
END:VEVENT
END:VCALENDAR
