BEGIN:VCALENDAR
VERSION:2.0
CALSCALE:GREGORIAN
PRODID:-//Diputació de Barcelona//DibaCMS//EN
BEGIN:VEVENT
UID:5986
DTSTAMP:20260422T172705
DTSTART:20250604T000000
DTEND:20260604T000000
SUMMARY:Gelida, punt de pas de la Volta Ciclista Femenina i el Gran Premi Castellví
LOCATION:
METHOD:PUBLISH
X-WR-CALNAME:gelida@gelida.cat 
X-WR-TIMEZONE:Europe/Madrid
DESCRIPTION:Diumenge 8 de juny, Gelida serà escenari de pas de la Volta Ciclista Femenina de Catalunya i del Gran Premi Castellví de Rosanes, amb afectacions puntuals de mobilitat. L’Ajuntament fa una crida a la col·laboració ciutadana per garantir el bon desenvolupament de les curses.

URI:https://www.gelida.cat/actualitat/noticies/gelida-punt-de-pas-de-la-volta-ciclista-femenina-i-el-gran-premi-castellvi.html
CLASS:PUBLIC
END:VEVENT
END:VCALENDAR
