BEGIN:VCALENDAR
VERSION:2.0
CALSCALE:GREGORIAN
PRODID:-//Diputació de Barcelona//DibaCMS//EN
BEGIN:VEVENT
UID:5956
DTSTAMP:20260422T214235
DTSTART:20250610T000000
DTEND:20260513T000000
SUMMARY:Actualització 10/06/2025: Convocatòria d’un procés de selecció per a la creació d’una borsa de treball de Taquiller/a - Netejador/a al Patronat Municipal d’Esports de Gelida
LOCATION:
METHOD:PUBLISH
X-WR-CALNAME:gelida@gelida.cat 
X-WR-TIMEZONE:Europe/Madrid
DESCRIPTION:L’objecte d’aquesta convocatòria és la selecció, pel procediment de concurs oposició, de les persones que han de formar part de la llista d’aspirants per cobrir places vacants o substitucions, en règim d’interinitat, d’una plaça de personal de Taquiller/a - Netejador/a, grup de classificació AP.

URI:https://www.gelida.cat/actualitat/noticies/actualitzacio-10062025-convocatoria-dun-proces-de-seleccio-per-a-la-creacio-duna-borsa-de-treball-de-taquillera-netejadora-al-patronat-municipal-desports-de-gelida.html
CLASS:PUBLIC
END:VEVENT
END:VCALENDAR
