BEGIN:VCALENDAR
VERSION:2.0
CALSCALE:GREGORIAN
PRODID:-//Diputació de Barcelona//DibaCMS//EN
BEGIN:VEVENT
UID:5940
DTSTAMP:20260422T172639
DTSTART:20250506T000000
DTEND:20260531T000000
SUMMARY:Obert el termini de presentació dels escrits del Programa de Festa Major
LOCATION:
METHOD:PUBLISH
X-WR-CALNAME:gelida@gelida.cat 
X-WR-TIMEZONE:Europe/Madrid
DESCRIPTION:S’ha obert el termini per a la presentació d’escrits per al Programa de Festa Major. Aquest, amb la valuosa aportació de moltes persones i entitats de Gelida vinculades al nostre poble, és un inestimable testimoni de la vida gelidenca al llarg de l’any.


 

URI:https://www.gelida.cat/municipi-per-temes/cultura/-cultura/5940-obert-el-termini-de-presentacio-dels-escrits-del-programa-de-festa-major.html
CLASS:PUBLIC
END:VEVENT
END:VCALENDAR
