BEGIN:VCALENDAR
VERSION:2.0
CALSCALE:GREGORIAN
PRODID:-//Diputació de Barcelona//DibaCMS//EN
BEGIN:VEVENT
UID:5915
DTSTAMP:20260422T184155
DTSTART:20250605T000000
DTEND:20260628T000000
SUMMARY:Actualització 05/062025: Convocatòria Plans d'Ocupació per aquest 2025
LOCATION:
METHOD:PUBLISH
X-WR-CALNAME:gelida@gelida.cat 
X-WR-TIMEZONE:Europe/Madrid
DESCRIPTION:L’Ajuntament de Gelida obre una nova convocatòria dins el projecte “A Gelida, anem per feina”, amb tres llocs de treball adreçats a persones en situació d’atur i risc d’exclusió social.

URI:https://www.gelida.cat/municipi-per-temes/ocupacio/actualitzacio-05062025-convocatoria-plans-docupacio-per-aquest-2025.html
CLASS:PUBLIC
END:VEVENT
END:VCALENDAR
