BEGIN:VCALENDAR
VERSION:2.0
CALSCALE:GREGORIAN
PRODID:-//Diputació de Barcelona//DibaCMS//EN
BEGIN:VEVENT
UID:5850
DTSTAMP:20260422T184500
DTSTART:20260116T000000
DTEND:20270305T000000
SUMMARY:El servei de DNI mòbil visitarà Gelida el 3 de febrer de 2026
LOCATION:
METHOD:PUBLISH
X-WR-CALNAME:gelida@gelida.cat 
X-WR-TIMEZONE:Europe/Madrid
DESCRIPTION:El servei de DNI mòbil visitarà Gelida els dies 3 i 6 de febrer de 2026, dimarts i divendres respectivament, per facilitar la renovació del Document Nacional d’Identitat.

 

URI:https://www.gelida.cat/actualitat/noticies/el-servei-de-dni-mobil-visitara-gelida-el-3-de-febrer-de-2026.html
CLASS:PUBLIC
END:VEVENT
END:VCALENDAR
