BEGIN:VCALENDAR
VERSION:2.0
CALSCALE:GREGORIAN
PRODID:-//Diputació de Barcelona//DibaCMS//EN
BEGIN:VEVENT
UID:5804
DTSTAMP:20260422T182249
DTSTART:20250123T090000
DTEND:20290324T000000
SUMMARY:Ple Ordinari 28 de gener
LOCATION:
METHOD:PUBLISH
X-WR-CALNAME:gelida@gelida.cat 
X-WR-TIMEZONE:Europe/Madrid
DESCRIPTION:El dimarts 28 de gener, a les 20h, hi haurà ple ordinari presencial a la Sala de Plens de l'Ajuntament de Gelida.

URI:https://www.gelida.cat/actualitat/noticies/ple-ordinari-28-de-gener.html
CLASS:PUBLIC
END:VEVENT
END:VCALENDAR
