BEGIN:VCALENDAR
VERSION:2.0
CALSCALE:GREGORIAN
PRODID:-//Diputació de Barcelona//DibaCMS//EN
BEGIN:VEVENT
UID:5594
DTSTAMP:20260422T201916
DTSTART:20250619T000000
DTEND:20270630T000000
SUMMARY:Consells per una revetlla segura
LOCATION:
METHOD:PUBLISH
X-WR-CALNAME:gelida@gelida.cat 
X-WR-TIMEZONE:Europe/Madrid
DESCRIPTION:La festa del solstici d’estiu, la nit més curta de l’any que se celebra tradicionalment durant la vigília del dia de Sant Joan, per aquest motiu, l’Ajuntament fa una crida als veïns i veïnes a complir amb la normativa vigent per a gaudir d’una festa segura.

URI:https://www.gelida.cat/actualitat/noticies/consells-per-una-revetlla-segura.html
CLASS:PUBLIC
END:VEVENT
END:VCALENDAR
