BEGIN:VCALENDAR
VERSION:2.0
CALSCALE:GREGORIAN
PRODID:-//Diputació de Barcelona//DibaCMS//EN
BEGIN:VEVENT
UID:5035
DTSTAMP:20260422T170532
DTSTART:20230127T000000
DTEND:20280930T000000
SUMMARY:Ple Ordinari 31 de gener de 2023
LOCATION:
METHOD:PUBLISH
X-WR-CALNAME:gelida@gelida.cat 
X-WR-TIMEZONE:Europe/Madrid
DESCRIPTION:El proper dimarts 31 de gener, a les 20h, hi haurà ple ordinari presencial a la Sala de Plens de l'Ajuntament de Gelida.

URI:https://www.gelida.cat/actualitat/noticies/ple-ordinari-31-de-gener-de-2023.html
CLASS:PUBLIC
END:VEVENT
END:VCALENDAR
