BEGIN:VCALENDAR
VERSION:2.0
CALSCALE:GREGORIAN
PRODID:-//Diputació de Barcelona//DibaCMS//EN
BEGIN:VEVENT
UID:4665
DTSTAMP:20260419T190002
DTSTART:20220128T000000
DTEND:20230128T000000
SUMMARY:L’Ajuntament de Gelida inicia la pavimentació del pàrquing de les Escoles velles
LOCATION:
METHOD:PUBLISH
X-WR-CALNAME:gelida@gelida.cat 
X-WR-TIMEZONE:Europe/Madrid
DESCRIPTION:Dilluns 31 de gener comencen els treballs de pavimentació del pàrquing de les Escoles Velles. A més, també se senyalitzaran les places d’aparcament.

URI:https://www.gelida.cat/actualitat/noticies/lajuntament-de-gelida-inicia-la-pavimentacio-del-parquing-de-les-escoles-velles.html
CLASS:PUBLIC
END:VEVENT
END:VCALENDAR
