BEGIN:VCALENDAR
VERSION:2.0
CALSCALE:GREGORIAN
PRODID:-//Diputació de Barcelona//DibaCMS//EN
BEGIN:VEVENT
UID:4576
DTSTAMP:20260419T170544
DTSTART:20211112T000000
DTEND:20221112T000000
SUMMARY:L'Ajuntament de Gelida es reuneix novament amb Salut per seguir reclamant millores
LOCATION:
METHOD:PUBLISH
X-WR-CALNAME:gelida@gelida.cat 
X-WR-TIMEZONE:Europe/Madrid
DESCRIPTION:L’Ajuntament celebra aquesta setmana una nova reunió amb Salut per reclamar la tornada total del servei al municipi i ampliar-lo amb possibles millores per al CAP Gelida

URI:https://www.gelida.cat/actualitat/noticies/lajuntament-de-gelida-es-reuneix-novament-amb-salut-per-seguir-reclamant-millores.html
CLASS:PUBLIC
END:VEVENT
END:VCALENDAR
