BEGIN:VCALENDAR
VERSION:2.0
CALSCALE:GREGORIAN
PRODID:-//Diputació de Barcelona//DibaCMS//EN
BEGIN:VEVENT
UID:4280
DTSTAMP:20260425T152043
DTSTART:20210126T190000
DTEND:20210126T210000
SUMMARY:Trobada amb socis, sòcies, penyistes i simpatitzants del FC Barcelona
LOCATION:Saló d'Espectacles UCG 
METHOD:PUBLISH
X-WR-CALNAME:gelida@gelida.cat 
X-WR-TIMEZONE:Europe/Madrid
DESCRIPTION:Trobada amb socis, sòcies, penyistes i simpatitzants del FCBarcelona: Víctor Font, Antoni Bassas i Antoni Rovira vénen a explicar-nos el seu projecte per al Barça.

URI:https://www.gelida.cat/actualitat/agenda/trobada-amb-socis-socies-penyistes-i-simpatitzants-del-fc-barcelona.html
CLASS:PUBLIC
END:VEVENT
END:VCALENDAR
