BEGIN:VCALENDAR
VERSION:2.0
CALSCALE:GREGORIAN
PRODID:-//Diputació de Barcelona//DibaCMS//EN
BEGIN:VEVENT
UID:4272
DTSTAMP:20260425T182943
DTSTART:20210113T000000
DTEND:20220113T000000
SUMMARY:Demà s'inicien les obres al carrer de Can Sàbat
LOCATION:
METHOD:PUBLISH
X-WR-CALNAME:gelida@gelida.cat 
X-WR-TIMEZONE:Europe/Madrid
DESCRIPTION:Demà s’iniciaran les obres d'estabilització del talús del carrer Can sàbat mitjançant la formació d'un nou mur amb escullera per evitar esllavissades.

URI:https://www.gelida.cat/actualitat/noticies/dema-sinicien-les-obres-al-carrer-de-can-sabat.html
CLASS:PUBLIC
END:VEVENT
END:VCALENDAR
