BEGIN:VCALENDAR
VERSION:2.0
CALSCALE:GREGORIAN
PRODID:-//Diputació de Barcelona//DibaCMS//EN
BEGIN:VEVENT
UID:1104
DTSTAMP:20260423T172312
DTSTART:20130712T000000
DTEND:20140712T000000
SUMMARY:Gelida, Protagonista A 8Tv
LOCATION:
METHOD:PUBLISH
X-WR-CALNAME:gelida@gelida.cat 
X-WR-TIMEZONE:Europe/Madrid
DESCRIPTION:
URI:https://www.gelida.cat/actualitat/noticies/gelida-protagonista-a-8tv.html
CLASS:PUBLIC
END:VEVENT
END:VCALENDAR
